BEGIN:VCALENDAR
VERSION:2.0
PRODID:Gezeitenkonzerte
CALSCALE:GREGORIAN
BEGIN:VEVENT
LOCATION:Deutsches Sielhafenmuseum Carolinensiel\, Pumphusen 3\, 26409 Wittmund
GEO:53.6923875;7.8021492
SUMMARY:Führung durch das Kapitänshaus auf den Spuren der ostfriesischen Teekultur\, Teekultur in Ostfriesland
DESCRIPTION:Führung durch das Kapitänshaus auf den Spuren der ostfriesischen Teekultur Die Ostfriesen sind mit 300 l Tee im Jahr Teetrink-Weltmeister. Das hängt mit der kulturellen Verbindung Ostfrieslands mit den Niederlanden und England durch den Handel über den Seeweg zusammen. So gelangte der Tee aus deren Kolonien schon im 17. Jh. nach Ostfriesland\, wo er bald Volksgetränk wurde. Hier entwickelte sich eine eigene Teekultur mit Silberbesteck\, Messingstövchen und Thüringer Porzellan. Das Teetrinken verbindet bis heute Brauchtum und Ritual. Im Kapitänshaus können Sie alles das sehen und erleben\, was zum traditionellen Teetrinken in Ostfriesland dazugehört. VVK 10 €\, Tageskasse 12 € (Tee inklusive) Weitere Informationen unter: www.dshm.de/Programm/Termine.de\, Tel.: 04464-86930. &nbsp\;
DTSTART:20251212T180000Z
DTEND:20251212T193000Z
URL;VALUE=URI:https://museen.ostfriesischelandschaft.de/veranstaltung/fuehrung-durch-das-kapitaenshaus-auf-den-spuren-der-ostfriesischen-teekultur-4/
DTSTAMP:20260424T025932Z
UID:69eadc94885d1
END:VEVENT
END:VCALENDAR