BEGIN:VCALENDAR
VERSION:2.0
PRODID:Gezeitenkonzerte
CALSCALE:GREGORIAN
BEGIN:VEVENT
LOCATION:Ostfriesisches Teemuseum Norden\, Am Markt 36\, 26506 Norden
GEO:53.594735;7.202456
SUMMARY:Führung durch die Sonderausstellung &#8222\;Porzellanpanorama&#8220\;\, 
DESCRIPTION:Im Ostfriesischen Teemuseum Norden\, Am Markt 36\, findet am Sonntag\, dem 14. Dezember\, um 11.30 Uhr eine Führung durch die Sonderausstellung Porzellanpanorama statt. Unter dem Motto Bilder einer Stadt stehen in der 60-minütige Führung historische Gebäude der Stadt Norden im Mittelpunkt. Die Besucherinnen und Besucher lernen in einem Rundgang durch die Ausstellung viele spannende Fakten und allerlei Wissenswertes über die Geschichte und Architektur der Bauwerke kennen. Kosten: 4 € zzgl. Eintritt pro Person. Die Teilnehmerzahl ist begrenzt\, eine Anmeldung unter Tel. 04931-12100 oder per Mail an info@teemuseum.de wird empfohlen. Weitere Informationen: Ostfriesisches Teemuseum Norden\, Tel.: 04921- 12100\, www.teemuseum.de
DTSTART:20251214T103000Z
DTEND:20251214T113000Z
URL;VALUE=URI:https://museen.ostfriesischelandschaft.de/veranstaltung/kreativwerkstatt-weihnachtskarten-aus-echtem-teebeutelpapier/
DTSTAMP:20260424T012633Z
UID:69eac6c90eedd
END:VEVENT
END:VCALENDAR