BEGIN:VCALENDAR
VERSION:2.0
PRODID:Gezeitenkonzerte
CALSCALE:GREGORIAN
BEGIN:VEVENT
LOCATION:Museum "Leben am Meer"\, Esens\, Bensersieler Str. 1\, Esens
GEO:53.6499776;7.6124913
SUMMARY:Kunstausstellung: Unter einem Himmel. KlimaKunst im Dialog\, bis zum 26. April 2026
DESCRIPTION:"KultHuus-Wittmunder Netzwerk eV." nimmt aktiv an dem durch "KIO-KulTour-Innovationen für Ostfriesland" geförderten Projekt\, der Kunstausstellung "Unter einem Himmel. KlimaKunst im Dialog" teil. Gemeinsam mit dem Naturschutzhof Wittmund\, dem Museum Leben am Meer in Esens und dem Verein Zukunft Wattenland e. V. arbeitet dieses KIO-Projekt für Nachhaltigkeit und Klimabewusstsein in der Kultur im Sinne des von der Ostfriesischen Landschaft geförderten Projektes. Die Ausstellung zeigt Arbeiten von Ingrid Freihold (Tuschemalerei/Kalligrafie)\, Helmut Müller (Installation/Malerei)\, Ida Oelke (Holzschnitt)\, Helma Ruß-Bittner (Malerei)\, Walter Ruß & Fotofreunde Wittmund (Fotografie) und Björn Schoon (Keramik). Ab Mai wird die Ausstellung dann im Naturschutzhof Wittmund zu sehen sein.
DTSTART:20260228T230000Z
DTEND:20260425T220000Z
URL;VALUE=URI:https://museen.ostfriesischelandschaft.de/veranstaltung/kunstausstellung-unter-einem-himmel-klimakunst-im-dialog/
DTSTAMP:20260421T123322Z
UID:69e76e929ac52
END:VEVENT
END:VCALENDAR