BEGIN:VCALENDAR
VERSION:2.0
PRODID:Gezeitenkonzerte
CALSCALE:GREGORIAN
BEGIN:VEVENT
LOCATION:Fehn- und Schiffahrtsmuseum Westrauderfehn\, Rajen 5\, Rhauderfehn
GEO:53.1354673;7.5719357
SUMMARY:Lesung: ALTENDEICH\, mit Helmut van Züren 
DESCRIPTION:Am Donnerstag\, den 9. April\, liest der Autor Helmut van Züren im Fehn- und Schiffahrtsmuseum Westrhauderfehn aus seinem Roman ALTENDEICH. Zwischen Deichen und Dunkelheit – Ein packender Roman über das Leben und die mystischen Geheimnisse an der Nordseeküste: Idyllisch liegt das kleine Warfendorf Altendeich vor der rauen Kulisse der Nordsee. Doch der Schein trügt: Hinter dem Deich ist das Leben so unbarmherzig wie das stürmische Klima. Die Bewohner kämpfen mit Entbehrungen\, harter Arbeit – und einer unheilvollen Serie von rätselhaften Unglücksfällen. Sind diese Ereignisse bloßer Zufall oder eine Folge uralter Verwünschungen? Eine Anmeldung ist nicht erforderlich. Weitere Informationen\, Öffnungszeiten etc.: Fehn- und Schiffahrtsmuseum Westrhauderfehn\, Tel.: 04952 – 952708\, www.fehn-schiffahrtsmuseum.de &nbsp\;
DTSTART:20260409T173000Z
DTEND:20260409T173000Z
URL;VALUE=URI:https://museen.ostfriesischelandschaft.de/veranstaltung/lesung-altendeich/
DTSTAMP:20260420T163857Z
UID:69e656a1e7d3e
END:VEVENT
END:VCALENDAR