BEGIN:VCALENDAR
VERSION:2.0
PRODID:Gezeitenkonzerte
CALSCALE:GREGORIAN
BEGIN:VEVENT
LOCATION:Landarbeitermuseum Suurhusen\, Smal Joed 5\, Hinte
GEO:53.4148362;7.2234058
SUMMARY:Lesung mit Ingrid und Frerich Ihben\, 
DESCRIPTION:Am Sonntag\, den 17. Mai 2026\, findet um 15 Uhr im Landarbeitermuseum Suurhusen eine Lesung statt. Anlass ist die diesjährige Museumseröffnung. Das Ehepaar Ingrid und Frerich Ihben ist zu Gast im Museum und trägt aus ihren Büchern vor\, darunter auch aus dem Buch "Leevkes Geheimnis". Weitere Informationen\, Öffnungszeiten\, etc.: Landarbeitermuseum Suurhusen\, www.landarbeitermuseum.de &nbsp\; &nbsp\; &nbsp\;
DTSTART:20260517T130000Z
DTEND:20260517T130000Z
URL;VALUE=URI:https://museen.ostfriesischelandschaft.de/veranstaltung/lesung-mit-ingrid-und-frerich-ihben/
DTSTAMP:20260420T175900Z
UID:69e6696409604
END:VEVENT
END:VCALENDAR