BEGIN:VCALENDAR
VERSION:2.0
PRODID:Gezeitenkonzerte
CALSCALE:GREGORIAN
BEGIN:VEVENT
LOCATION:Ostfriesisches Teemuseum Norden\, Am Markt 36\, 26506 Norden
GEO:53.594735;7.202456
SUMMARY:MitMachFührung – Dem Tee auf der Spur\, 
DESCRIPTION:Im Ostfriesischen Teemuseum Norden findet am Donnerstag\, dem 26. März\, um 14.30 Uhr die MitMachFührung – Dem Tee auf der Spur statt. Die Sinne schärfen und überraschende Erkenntnisse über Tee erlangen\, das verspricht diese besondere Führung durch das Ostfriesische Teemuseum. Die Besucherinnen und Besucher dürfen sich an dieser Führung aktiv beteiligen und sich Exponate durch Berühren\, Riechen und Betrachten erschließen. Im Mittelpunkt der Führung stehen Gegenstände\, anhand derer man interessante\, spannende und kuriose Fakten rund um das Thema Tee erfahren kann. Die Führung ist auch für Familien geeignet. Die Teilnehmerzahl ist begrenzt\, eine Anmeldung unter Tel. 04931-12100 oder per Mail an info@teemuseum.de wird empfohlen.
DTSTART:20260326T133000Z
DTEND:20260326T143000Z
URL;VALUE=URI:https://museen.ostfriesischelandschaft.de/veranstaltung/mitmachfuehrung-dem-tee-auf-der-spur/
DTSTAMP:20260423T070716Z
UID:69e9c524b7258
END:VEVENT
END:VCALENDAR