BEGIN:VCALENDAR
VERSION:2.0
PRODID:Gezeitenkonzerte
CALSCALE:GREGORIAN
BEGIN:VEVENT
LOCATION:Fehn- und Schiffahrtsmuseum Westrauderfehn\, Rajen 5\, Rhauderfehn
GEO:53.1354673;7.5719357
SUMMARY:Musik: Hannes-Flesner-Abend\, 
DESCRIPTION:Am Freitag\, den 17. April 2026\, findet im Fehn- und Schiffahrtsmuseum Westrhauderfehn ein Hannes-Flesner-Abend statt. Nico Weers\, Werner Jürgens und Enno Jakobs gestalten einen bunten Abend über das Leben des "fröhlichen Ostfriesen"! Dazu gehören auch die besten „Schangsongs“ und volkstümlichen Lieder. Karten sind an der Museumskasse zu den Öffnungszeiten der Tourist-Information Rhauderfehn erhältlich. Nachfrage nach freien Plätzen sind unter info@heimatverein-overledingerland.de möglich. Weitere Informationen\, Öffnungszeiten etc.: Fehn- und Schiffahrtsmuseum Westrhauderfehn\, Tel.: 04952 – 952708\, www.fehn-schiffahrtsmuseum.de
DTSTART:20260417T173000Z
DTEND:20260417T173000Z
URL;VALUE=URI:https://museen.ostfriesischelandschaft.de/veranstaltung/musik-hannes-flesner-abend/
DTSTAMP:20260420T163959Z
UID:69e656df83e94
END:VEVENT
END:VCALENDAR