BEGIN:VCALENDAR
VERSION:2.0
PRODID:Gezeitenkonzerte
CALSCALE:GREGORIAN
BEGIN:VEVENT
LOCATION:Fehn- und Schiffahrtsmuseum Westrauderfehn\, Rajen 5\, Rhauderfehn
GEO:53.1354673;7.5719357
SUMMARY:Musik: LIEK UT\, 
DESCRIPTION:Am Freitag\, den 27. November 2026\, findet im Fehn- und Schiffahrtsmuseum Westrhauderfehn um 19.30 Uhr ein Konzert mit der Band LIEK UT statt. Blues up Platt\, den präsentiert LIEK UT. Die Band\, bestehend aus Wilfried Steenblock (Gitarre\, Dobro\, Gesang)\, Karl-Heinz Kempen (Gitarre\, Mundharmonika\, Kazoo\, Gesang)\, Hermann Bruse (Keyboard)\, Herbert Jagelki (Bass) und Georg Richter (Cajon\, Bercussion\, Gesang)\, gibt bei ihrem Konzert im Klönraum des Museums neben Coverstücken auch eigene Songs zum Besten. Weitere Informationen\, Öffnungszeiten etc.: Fehn- und Schiffahrtsmuseum Westrhauderfehn\, Tel.: 04952 – 952708\, www.fehn-schiffahrtsmuseum.de
DTSTART:20261127T183000Z
DTEND:20261127T183000Z
URL;VALUE=URI:https://museen.ostfriesischelandschaft.de/veranstaltung/musik-liek-ut/
DTSTAMP:20260421T140403Z
UID:69e783d3516e4
END:VEVENT
END:VCALENDAR