BEGIN:VCALENDAR
VERSION:2.0
PRODID:Gezeitenkonzerte
CALSCALE:GREGORIAN
BEGIN:VEVENT
LOCATION:Fehn- und Schiffahrtsmuseum Westrauderfehn\, Rajen 5\, Rhauderfehn
GEO:53.1354673;7.5719357
SUMMARY:Musik: Shanty-Chor „Overledinger Jungs Collinghorst“\, 
DESCRIPTION:Am Sonntag\, den 12. Juli 2026\, tritt der Shanty-Chor „Overledinger Jungs Collinghorst“ im Fehn- und Schiffahrtsmuseum Westrhauderfehn auf. Die rund 17 Sänger sowie Musikerinnen und Musiker des Shanty-Chors verfügen über ein reichhaltiges musikalisches Repertoire. Über 115 Lieder - Shantys und sonstiges maritimes Liedgut - stehen zur Verfügung\, wenn das Ensemble auch in diesem Jahr wieder im Museumsgarten gastiert. Weitere Informationen\, Öffnungszeiten etc.: Fehn- und Schiffahrtsmuseum Westrhauderfehn\, Tel.: 04952 – 952708\, www.fehn-schiffahrtsmuseum.de
DTSTART:20260712T130000Z
DTEND:20260712T130000Z
URL;VALUE=URI:https://museen.ostfriesischelandschaft.de/veranstaltung/musik-shanty-chor-overledinger-jungs-collinghorst/
DTSTAMP:20260421T135703Z
UID:69e7822fa250f
END:VEVENT
END:VCALENDAR