BEGIN:VCALENDAR
VERSION:2.0
PRODID:Gezeitenkonzerte
CALSCALE:GREGORIAN
BEGIN:VEVENT
LOCATION:Fehn- und Schiffahrtsmuseum Westrauderfehn\, Rajen 5\, Rhauderfehn
GEO:53.1354673;7.5719357
SUMMARY:Musik: TuT GOES HISTORY – Rocking The Museumsgarden\, 
DESCRIPTION:Am Samstag\, den 12. September 2026\, findet im Fehn- und Schiffahrtsmuseum Westrhauderfehn ein Open-Air-Konzert statt. Es wird veranstaltet von und mit Schülerinnen und Schülern der Musikschule Takt und Ton (TuT). Weitere Informationen\, Öffnungszeiten etc.: Fehn- und Schiffahrtsmuseum Westrhauderfehn\, Tel.: 04952 – 952708\, www.fehn-schiffahrtsmuseum.de &nbsp\;
DTSTART:20260912T110000Z
DTEND:20260912T110000Z
URL;VALUE=URI:https://museen.ostfriesischelandschaft.de/veranstaltung/musik-tut-goes-history-rocking-the-museumsgarden/
DTSTAMP:20260421T135531Z
UID:69e781d3411a0
END:VEVENT
END:VCALENDAR