BEGIN:VCALENDAR
VERSION:2.0
PRODID:Gezeitenkonzerte
CALSCALE:GREGORIAN
BEGIN:VEVENT
LOCATION:Fehn- und Schiffahrtsmuseum Westrauderfehn\, Rajen 5\, Rhauderfehn
GEO:53.1354673;7.5719357
SUMMARY:Sonderausstellung: Des Seemanns Grab ist (nicht) die See! Fehntjer Grabstätten und ihre Geschichten\, bis zum 31. Oktober 2026
DESCRIPTION:Noch heute lässt sich die maritime Vergangenheit der FEHNE auch an den Gräbern ihrer einstigen Bewohner ablesen. Zahlreiche Grabsteine verweisen auf ausgeübte Berufe wie Seemann\, Kapitän oder Schiffsbauer\, sind gespickt mit Symbolen der christlichen Seefahrt oder zeigen gar stolz das Schiff des Bestatteten. Sie spiegeln somit eine Zeit wider\, als das Leben auf dem FEHN noch stark von der Seefahrt geprägt wurde. Doch ob von künstlerischem Wert oder historischem Rang – jeder dieser Steine erzählt auch (Lebens-)Geschichte. Wirtschaftlicher Aufschwung und harte Schicksalsschläge lagen oftmals nahe beieinander – auch auf den Friedhöfen. Ob nun in heimischer Erde oder an fremden Gestaden\, die Ausstellung widmet sich den historischen Grabstätten und stellt die Geschichten „hinter“ den Steinen vor. Weitere Informationen\, Öffnungszeiten etc.: Fehn- und Schiffahrtsmuseum Westrhauderfehn\, Tel.: 04952 – 952708\, www.fehn-schiffahrtsmuseum.de
DTSTART:20260307T230000Z
DTEND:20261030T230000Z
URL;VALUE=URI:https://museen.ostfriesischelandschaft.de/veranstaltung/sonderausstellung-des-seemanns-grab-ist-nicht-die-see-fehntjer-grabstaetten-und-ihre-geschichten/
DTSTAMP:20260421T123333Z
UID:69e76e9d263a1
END:VEVENT
END:VCALENDAR