BEGIN:VCALENDAR
VERSION:2.0
PRODID:Gezeitenkonzerte
CALSCALE:GREGORIAN
BEGIN:VEVENT
LOCATION:Fehn- und Schiffahrtsmuseum Westrauderfehn\, Rajen 5\, Rhauderfehn
GEO:53.1354673;7.5719357
SUMMARY:Theater: Ein Abend mit dem FehnTheater\, 
DESCRIPTION:Jährlich im Oktober veranstaltet das Fehntheater einen Theaterabend im Fehn- und Schiffahrtsmuseum in Westrhauderfehn. Gezeigt werden sechs kurze historische Szenen\, natürlich alle auf Plattdeutsch. Alte Zeiten werden so mit viel Humor wieder lebendig. Zwischendurch erläutert der Heimatforscher Hinrich Heselmeyer die gespielten Szenen anhand alter Fotoaufnahmen. Eine Anmeldung ist erforderlich! Karten gibt es nur im Vorverkauf an der Museumskasse zu den Öffnungszeiten der Tourist-Information Rhauderfehn im Fehn- und Schiffahrtsmuseum. Nachfragen auf freie Plätze sind unter info@heimatverein-overledingerland.de oder info@fehntheater.de möglich. Weitere Informationen\, Öffnungszeiten etc.: Fehn- und Schiffahrtsmuseum Westrhauderfehn\, Tel.: 04952 – 952708\, www.fehn-schiffahrtsmuseum.de &nbsp\;
DTSTART:20261023T173000Z
DTEND:20261023T173000Z
URL;VALUE=URI:https://museen.ostfriesischelandschaft.de/veranstaltung/theater-ein-abend-mit-dem-fehntheater/
DTSTAMP:20260421T140019Z
UID:69e782f376932
END:VEVENT
END:VCALENDAR