BEGIN:VCALENDAR
VERSION:2.0
PRODID:Gezeitenkonzerte
CALSCALE:GREGORIAN
BEGIN:VEVENT
LOCATION:Fehn- und Schiffahrtsmuseum Westrauderfehn\, Rajen 5\, Rhauderfehn
GEO:53.1354673;7.5719357
SUMMARY:Vortrag: Das Feuerschiff Amrumbank/Deutsche Bucht &#8211\; Emden\, mit Heinz-Günther Buß
DESCRIPTION:Am Donnerstag\, den 18. Juni 2026\, findet im Fehn- und Schiffahrtsmuseum Westrhauderfehn ein Vortrag über das Feuerschiff Amrumbank statt. Das Feuerschiff Amrumbank wurde 1915 auf der Werft Jos. L. Meyer in Papenburg gebaut und war seit 1917 als schwimmender Leuchtturm auf mehreren Positionen in der Nordsee im Einsatz. Die Beschriftung "Deutsche Bucht" an den beiden Bordwänden des Schiffes weist auf den letzten Liegeplatz als aktives Feuerschiff hin. 12 Besatzungsmitglieder taten im 14-tägigen Wechsel ihren Dienst an Bord. Nach seiner Außerdienststellung am 19. Oktober 1983 wurde es vom »Arbeitskreis Museums-Feuerschiff e.V.\, Emden« gekauft\, renoviert und teilweise umgebaut. Seit dem 2. August 1984 liegt die Amrumbank im Ratsdelft von Emden - mitten in der Stadt - und kann von jedermann besichtigt werden. Heinz-Günther Buß (Verein - Amrumbank/Deutsche Bucht e.V.) stellt das Schiff und seine Geschichte vor. Eine Anmeldung ist nicht erforderlich. Weitere Informationen\, Öffnungszeiten etc.: Fehn- und Schiffahrtsmuseum Westrhauderfehn\, Tel.: 04952 – 952708\, www.fehn-schiffahrtsmuseum.de &nbsp\;
DTSTART:20260618T173000Z
DTEND:20260618T173000Z
URL;VALUE=URI:https://museen.ostfriesischelandschaft.de/veranstaltung/vortrag-das-feuerschiff-amrumbank-deutsche-bucht-emden/
DTSTAMP:20260421T122846Z
UID:69e76d7ea34f8
END:VEVENT
END:VCALENDAR