BEGIN:VCALENDAR
VERSION:2.0
PRODID:Gezeitenkonzerte
CALSCALE:GREGORIAN
BEGIN:VEVENT
LOCATION:Fehn- und Schiffahrtsmuseum Westrauderfehn\, Rajen 5\, Rhauderfehn
GEO:53.1354673;7.5719357
SUMMARY:Vortrag: Die Gründung der Rhauder Fehne\, mit Hinrich Heselmeyer 
DESCRIPTION:Am Donnerstag\, den 24. September 2026\, findet im Fehn- und Schiffahrtsmuseum Westrhauderfehn ein Vortrag zur Gründung der Rhauder Fehne statt. 1769 wurde das Rhauder Wester-Fehn sowie das Rhauder Oster-Fehn offiziell gegründet. Die Unternehmer und Geldgeber Hinrich Thomas Stuart\, Johann Heinrich Heydecke\, Rudolph Heinrich Carl von Glan\, Alrich Weyers Ibelings sowie Wille Janssen hatten sich hierzu zur Rhauder-Fehn-Compagnie zusammengeschlossen und vom preußischen Staat eine Fläche von 1500 Diemat als Erbpacht übernommen. Heimatforscher Hinrich Heselmeyer spürt den Geschehnissen in seinem Vortrag nach. Eine Anmeldung ist nicht erforderlich. Weitere Informationen\, Öffnungszeiten etc.: Fehn- und Schiffahrtsmuseum Westrhauderfehn\, Tel.: 04952 – 952708\, www.fehn-schiffahrtsmuseum.de &nbsp\; &nbsp\;
DTSTART:20260924T173000Z
DTEND:20260924T173000Z
URL;VALUE=URI:https://museen.ostfriesischelandschaft.de/veranstaltung/vortrag-die-gruendung-der-rhauder-fehne/
DTSTAMP:20260421T123015Z
UID:69e76dd77af9d
END:VEVENT
END:VCALENDAR