BEGIN:VCALENDAR
VERSION:2.0
PRODID:Gezeitenkonzerte
CALSCALE:GREGORIAN
BEGIN:VEVENT
LOCATION:Fehn- und Schiffahrtsmuseum Westrauderfehn\, Rajen 5\, Rhauderfehn
GEO:53.1354673;7.5719357
SUMMARY:Vortrag: Entnazifizierung mit Bruno Fischer als Beispiel für Unterstützer des NS-Systems\, mit Heinz Giermanns
DESCRIPTION:Am Donnerstag\, den 26. März 2026\, findet im Fehn- und Schiffahrtsmuseum Westrhauderfehn ein Vortrag mit Heinz Giermanns statt. Nach dem Ende des Dritten Reiches wurden in Westrhauderfehn 66 Personen von der alliierten Militärregierung als Unterstützer\, Förderer und Nutznießer des NS-Regimes identifiziert - darunter der Fotograf Bruno Fischer. Lokalhistoriker Heinz Giermanns greift dessen Vita auf\, um die Entnazifizierungsprozesse im Overledingerland zu beleuchten. Keine Anmeldung erforderlich! Weitere Informationen\, Öffnungszeiten etc.: Fehn- und Schiffahrtsmuseum Westrhauderfehn\, Tel.: 04952 – 952708\, www.fehn-schiffahrtsmuseum.de
DTSTART:20260326T183000Z
DTEND:20260326T183000Z
URL;VALUE=URI:https://museen.ostfriesischelandschaft.de/veranstaltung/vortrag-entnazifizierung-mit-bruno-fischer-als-beispiel-fuer-unterstuetzer-des-ns-systems/
DTSTAMP:20260423T084718Z
UID:69e9dc96cfbfd
END:VEVENT
END:VCALENDAR