BEGIN:VCALENDAR
VERSION:2.0
PRODID:Gezeitenkonzerte
CALSCALE:GREGORIAN
BEGIN:VEVENT
LOCATION:Museum "Leben am Meer"\, Esens\, Bensersieler Str. 1\, Esens
GEO:53.6499776;7.6124913
SUMMARY:Fotografie &#8211\; gestern\, heute\, morgen &#8211\; was Bilder erzählen\, Ein Abend vom Fotostammtisch Esens
DESCRIPTION:Ein Abend vom Fotostammtisch Esens mit Alfons Nieberg und Johann Meinen Bilder aus der ganzen Welt\, unserer Heimat und unserer Stadt Esens handgemacht und Künstliche Intelligenz. Weitere Informationen\, Anmeldungen\, Eintritt: Museum "Leben am Meer"\, Bensersieler Str. 1\, 26427 Esens\, info@heimatverein-esens.de\, Tel.: 04971-5232
DTSTART:20251212T183000Z
DTEND:20251212T200000Z
URL;VALUE=URI:https://museen.ostfriesischelandschaft.de/veranstaltung/vortrag-mit-meinhard-edzards-wie-sicher-sind-wir-hinter-unseren-deichen-2/
DTSTAMP:20260424T012314Z
UID:69eac602359bb
END:VEVENT
END:VCALENDAR