BEGIN:VCALENDAR
VERSION:2.0
PRODID:Gezeitenkonzerte
CALSCALE:GREGORIAN
BEGIN:VEVENT
LOCATION:Fehn- und Schiffahrtsmuseum Westrauderfehn\, Rajen 5\, Rhauderfehn
GEO:53.1354673;7.5719357
SUMMARY:Vortrag: Von des Bürgermeisters Schreibtisch – Archivfunde erzählen Verwaltungsgeschichte\, mit Hermann Drieling 
DESCRIPTION:Am Donnerstag\, den 29. Oktober 2026\, findet im Fehn- und Schiffahrtsmuseum Westrhauderfehn ein Vortrag über Funde aus dem Archiv des Museums statt. Das Archiv umfasst ca. 3.000 Einzeldokumente und Konvolute. Darunter sind viele Urkunden\, die Verwaltungsvorgänge in den Gemeinden Collinghorst\, Rhaude\, Potshausen\, Breinermoor usw. des 18. und 19. Jahrhunderts dokumentieren. Von kurios bis alltäglich - der ehrenamtliche Museumsarchivar Hermann Drieling stellt einige dieser Dokumente vor. Keine Anmeldung erforderlich! Weitere Informationen\, Öffnungszeiten etc.: Fehn- und Schiffahrtsmuseum Westrhauderfehn\, Tel.: 04952 – 952708\, www.fehn-schiffahrtsmuseum.de
DTSTART:20261029T183000Z
DTEND:20261029T183000Z
URL;VALUE=URI:https://museen.ostfriesischelandschaft.de/veranstaltung/vortrag-von-des-buergermeisters-schreibtisch-archivfunde-erzaehlen-verwaltungsgeschichte/
DTSTAMP:20260421T122859Z
UID:69e76d8b342a2
END:VEVENT
END:VCALENDAR